BEGIN:VCALENDAR
VERSION:2.0
CALSCALE:GREGORIAN
PRODID:adamgibbons/ics
METHOD:PUBLISH
X-PUBLISHED-TTL:PT1H
BEGIN:VEVENT
UID:toRrvoDUEQQ_IPwkfPKji
SUMMARY:Bokslutskommuniké 2026
DTSTAMP:20260423T132448Z
DTSTART:20270212T070000Z
DURATION:PT1H
END:VEVENT
END:VCALENDAR
